BEGIN:VCALENDAR
VERSION:2.0
PRODID:-//Chattanooga4u - ECPv6.15.20//NONSGML v1.0//EN
CALSCALE:GREGORIAN
METHOD:PUBLISH
X-ORIGINAL-URL:https://35f.9e9.myftpupload.com
X-WR-CALDESC:Events for Chattanooga4u
REFRESH-INTERVAL;VALUE=DURATION:PT1H
X-Robots-Tag:noindex
X-PUBLISHED-TTL:PT1H
BEGIN:VTIMEZONE
TZID:UTC
BEGIN:STANDARD
TZOFFSETFROM:+0000
TZOFFSETTO:+0000
TZNAME:UTC
DTSTART:20250101T000000
END:STANDARD
END:VTIMEZONE
BEGIN:VEVENT
DTSTART;TZID=UTC:20260429T071500
DTEND;TZID=UTC:20260429T083000
DTSTAMP:20260423T152158
CREATED:20240927T202553Z
LAST-MODIFIED:20240927T203152Z
UID:10000127-1777446900-1777451400@35f.9e9.myftpupload.com
SUMMARY:Chattanooga Network Connection  (CNC)
DESCRIPTION:
URL:https://35f.9e9.myftpupload.com/event/cnc-networking/2026-04-29/
LOCATION:Maple Street BIscuit\, 2114 Gunbarrel Road\, Chattanooga\, Tenn\, 37421
CATEGORIES:Networking Events
ATTACH;FMTTYPE=image/png:https://35f.9e9.myftpupload.com/wp-content/uploads/2022/03/Computer-People.png
END:VEVENT
END:VCALENDAR